BEGIN:VCALENDAR
VERSION:2.0
PRODID:-//Aanandmy Life Care Foundation - ECPv6.15.13.1//NONSGML v1.0//EN
CALSCALE:GREGORIAN
METHOD:PUBLISH
X-ORIGINAL-URL:https://aanandmylifecarefoundation.org
X-WR-CALDESC:Events for Aanandmy Life Care Foundation
REFRESH-INTERVAL;VALUE=DURATION:PT1H
X-Robots-Tag:noindex
X-PUBLISHED-TTL:PT1H
BEGIN:VTIMEZONE
TZID:Asia/Kolkata
BEGIN:STANDARD
TZOFFSETFROM:+0530
TZOFFSETTO:+0530
TZNAME:IST
DTSTART:20240101T000000
END:STANDARD
END:VTIMEZONE
BEGIN:VEVENT
DTSTART;TZID=Asia/Kolkata:20251210T090000
DTEND;TZID=Asia/Kolkata:20251210T170000
DTSTAMP:20260421T193553
CREATED:20230110T224119Z
LAST-MODIFIED:20251129T102800Z
UID:262-1765357200-1765386000@aanandmylifecarefoundation.org
SUMMARY:Community Health & Wellness Camp
DESCRIPTION:Community Health & Wellness Camp \nAANANDMY Life Care Foundation organized a Community Health & Wellness Camp to provide free primary healthcare services\, screenings\, and medicines to underserved families living in rural and semi-urban communities. \nObjective:To ensure early diagnosis\, preventive care\, and accessible medical support for communities with limited healthcare facilities. \nActivities Included: \n\n\nGeneral health checkups \n\n\nBP\, Diabetes & Anemia screening \n\n\nAYUSH wellness guidance \n\n\nFree medicines distribution \n\n\nHealth awareness sessions \n\n\nBeneficiaries:Children\, elderly citizens\, women\, and low-income families. \nExpected Impact:Improved early detection\, reduced untreated illnesses\, and increased awareness of preventive health practices
URL:https://aanandmylifecarefoundation.org/event/festival-of-architecture-and-interior/
LOCATION:Moradabad\, Aanandmy Life Care Foundation\, Moradabad\, Uttar Pradesh\, India
CATEGORIES:Health Program,Seminars
ATTACH;FMTTYPE=image/jpeg:https://aanandmylifecarefoundation.org/wp-content/uploads/2025/11/pexels-photo-2781814.jpeg
END:VEVENT
END:VCALENDAR