BEGIN:VCALENDAR
VERSION:2.0
PRODID:-//Aanandmy Life Care Foundation - ECPv6.15.13.1//NONSGML v1.0//EN
CALSCALE:GREGORIAN
METHOD:PUBLISH
X-WR-CALNAME:Aanandmy Life Care Foundation
X-ORIGINAL-URL:https://aanandmylifecarefoundation.org
X-WR-CALDESC:Events for Aanandmy Life Care Foundation
REFRESH-INTERVAL;VALUE=DURATION:PT1H
X-Robots-Tag:noindex
X-PUBLISHED-TTL:PT1H
BEGIN:VTIMEZONE
TZID:Asia/Kolkata
BEGIN:STANDARD
TZOFFSETFROM:+0530
TZOFFSETTO:+0530
TZNAME:IST
DTSTART:20240101T000000
END:STANDARD
END:VTIMEZONE
BEGIN:VEVENT
DTSTART;TZID=Asia/Kolkata:20251223T090000
DTEND;TZID=Asia/Kolkata:20251223T170000
DTSTAMP:20260421T180905
CREATED:20251123T063727Z
LAST-MODIFIED:20251123T064202Z
UID:886-1766480400-1766509200@aanandmylifecarefoundation.org
SUMMARY:Digital Learning & Career Guidance Drive
DESCRIPTION:Digital Learning & Career Guidance Drive \nAn educational drive to help students gain essential digital literacy skills and mentorship for career growth. \nObjective:To support students with technology access\, basic digital skills\, and guidance for education and career advancement. \nActivities Included: \n\n\nBasics of computer & internet \n\n\nOnline safety & digital awareness \n\n\nGuidance for higher studies & careers \n\n\nOne-on-one mentorship for youth \n\n\nBeneficiaries:School students\, young learners\, and underprivileged youth. \nExpected Impact:Improved digital confidence\, better career awareness\, and increased access to modern learning.
URL:https://aanandmylifecarefoundation.org/event/digital-learning-career-guidance-drive/
LOCATION:Moradabad\, Aanandmy Life Care Foundation\, Moradabad\, Uttar Pradesh\, India
CATEGORIES:Digital Literacy Program,Event
ATTACH;FMTTYPE=image/jpeg:https://aanandmylifecarefoundation.org/wp-content/uploads/2025/11/pexels-photo-8297444.jpeg
END:VEVENT
BEGIN:VEVENT
DTSTART;TZID=Asia/Kolkata:20251215T090000
DTEND;TZID=Asia/Kolkata:20251215T170000
DTSTAMP:20260421T180905
CREATED:20230110T223942Z
LAST-MODIFIED:20251123T063543Z
UID:259-1765789200-1765818000@aanandmylifecarefoundation.org
SUMMARY:Women Skill & Self-Reliance Workshop
DESCRIPTION:Women Skill & Self-Reliance Workshop \nA skill training and empowerment session designed to support women in becoming financially independent through practical learning and group collaboration. \nObjective:To equip women with skills that can lead to income opportunities\, confidence\, and community leadership. \nActivities Included: \n\n\nTailoring & embroidery workshop \n\n\nDigital literacy introduction \n\n\nAwareness on safety\, rights & health \n\n\nFormation of self-help group (SHG) \n\n\nBeneficiaries:Women from rural and low-income households. \nExpected Impact:Sustainable livelihood opportunities and stronger participation of women in social and economic activities
URL:https://aanandmylifecarefoundation.org/event/women-skill-self-reliance-workshop/
LOCATION:Moradabad\, Aanandmy Life Care Foundation\, Moradabad\, Uttar Pradesh\, India
CATEGORIES:Event,Seminars,Women Empowerment Program
ATTACH;FMTTYPE=image/jpeg:https://aanandmylifecarefoundation.org/wp-content/uploads/2025/11/pexels-photo-8171197.jpeg
END:VEVENT
END:VCALENDAR